BEGIN:VCALENDAR
VERSION:2.0
PRODID:-//La Palma Orgánica - ECPv6.15.20//NONSGML v1.0//EN
CALSCALE:GREGORIAN
METHOD:PUBLISH
X-ORIGINAL-URL:https://lapalmaorganica.com
X-WR-CALDESC:Eventos para La Palma Orgánica
REFRESH-INTERVAL;VALUE=DURATION:PT1H
X-Robots-Tag:noindex
X-PUBLISHED-TTL:PT1H
BEGIN:VTIMEZONE
TZID:UTC
BEGIN:STANDARD
TZOFFSETFROM:+0000
TZOFFSETTO:+0000
TZNAME:UTC
DTSTART:20240101T000000
END:STANDARD
END:VTIMEZONE
BEGIN:VEVENT
DTSTART;TZID=UTC:20251007T110000
DTEND;TZID=UTC:20251007T130000
DTSTAMP:20260422T162031
CREATED:20250909T100342Z
LAST-MODIFIED:20250909T101646Z
UID:16021-1759834800-1759842000@lapalmaorganica.com
SUMMARY:Taller Compostaje Doméstico / Garafía
DESCRIPTION:Lugar: Sabores de Garafía\, San Antonio del Monte\nFecha: 07/10/2025\nHora: 11:00 h
URL:https://lapalmaorganica.com/evento/taller-compostaje-domestico-garafia/
LOCATION:Sabores de Garafía\, Calle Juan Adalid\, Villa de Garafía\, Santa Cruz de Tenerife\, 38728\, Spain
CATEGORIES:Compostaje Doméstico
ATTACH;FMTTYPE=image/png:https://lapalmaorganica.com/wp-content/uploads/2025/09/garafia.png
END:VEVENT
BEGIN:VEVENT
DTSTART;TZID=UTC:20251010T130000
DTEND;TZID=UTC:20251010T143000
DTSTAMP:20260422T162031
CREATED:20251006T084010Z
LAST-MODIFIED:20251006T084010Z
UID:16185-1760101200-1760106600@lapalmaorganica.com
SUMMARY:Taller Compostaje Doméstico / PFE La Palma Contigo
DESCRIPTION:Lugar: Oficinas ADER La Palma\, Villa de Mazo\nFecha: 10/10/2025\nHora: 13:00 h
URL:https://lapalmaorganica.com/evento/taller-compostaje-domestico-pfe-la-palma-contigo/
LOCATION:ADER La Palma\, C/ Trasera Doctor Morera Bravo\, s/n\, Villa de Mazo\, 38730
CATEGORIES:Compostaje Doméstico
ATTACH;FMTTYPE=application/pdf:https://lapalmaorganica.com/wp-content/uploads/2025/09/La-Palma-Contigo.pdf
END:VEVENT
BEGIN:VEVENT
DTSTART;TZID=UTC:20251014T170000
DTEND;TZID=UTC:20251014T190000
DTSTAMP:20260422T162031
CREATED:20251006T093142Z
LAST-MODIFIED:20251006T093142Z
UID:16277-1760461200-1760468400@lapalmaorganica.com
SUMMARY:Taller de Compostaje Doméstico / Los Llanos de Aridane
DESCRIPTION:Lugar: Salón de Plenos del Ayuntamiento de Los Llanos de Aridane\nFecha: 14/10/2025\nHora: 17:00
URL:https://lapalmaorganica.com/evento/taller-de-compostaje-domestico-los-llanos-de-aridane/
CATEGORIES:Compostaje Doméstico
ATTACH;FMTTYPE=image/png:https://lapalmaorganica.com/wp-content/uploads/2025/10/LPO_Los-Llanos-de-Aridane.png
END:VEVENT
BEGIN:VEVENT
DTSTART;TZID=UTC:20251017T120000
DTEND;TZID=UTC:20251017T140000
DTSTAMP:20260422T162031
CREATED:20251009T082933Z
LAST-MODIFIED:20251009T082933Z
UID:16287-1760702400-1760709600@lapalmaorganica.com
SUMMARY:Taller Compostaje Doméstico / PFE Santa Cruz de La Palma Siempre Verde
DESCRIPTION:Lugar: Casa de la Cultura de Benahoare\, Santa Cruz de La Palma\nFecha: 17/10/2025\nHora: 12:00 h
URL:https://lapalmaorganica.com/evento/taller-compostaje-domestico-pfe-santa-cruz-de-la-palma-siempre-verde/
LOCATION:Casa de la Cultura de Benahoare\, Calle A. González Suárez\, 66\, Santa Cruz de la Palma\, Santa Cruz de Tenerife\, 38700\, Spain
CATEGORIES:Compostaje Doméstico
ATTACH;FMTTYPE=image/png:https://lapalmaorganica.com/wp-content/uploads/2025/10/PFE-SC-La-Palma.png
END:VEVENT
BEGIN:VEVENT
DTSTART;TZID=UTC:20251021T103000
DTEND;TZID=UTC:20251021T130000
DTSTAMP:20260422T162031
CREATED:20250926T091624Z
LAST-MODIFIED:20250926T091624Z
UID:16187-1761042600-1761051600@lapalmaorganica.com
SUMMARY:Taller Compostaje Doméstico / PFAE Lo Natural\, Garafía
DESCRIPTION:Lugar: Escuela Antigua de Roque del Faro\, Villa de Garafía\nFecha: 21/10/2025\nHora: 10:30 h
URL:https://lapalmaorganica.com/evento/taller-compostaje-domestico-pfae-lo-natural-garafia/
LOCATION:Escuela antigua de Roque Faro\, Villa de Garafía\, Santa Cruz de Tenerife\, 38728\, España
CATEGORIES:Compostaje Doméstico
ATTACH;FMTTYPE=image/png:https://lapalmaorganica.com/wp-content/uploads/2025/09/garafia-1.png
END:VEVENT
BEGIN:VEVENT
DTSTART;TZID=UTC:20251022T170000
DTEND;TZID=UTC:20251022T190000
DTSTAMP:20260422T162031
CREATED:20251006T084900Z
LAST-MODIFIED:20251006T084900Z
UID:16262-1761152400-1761159600@lapalmaorganica.com
SUMMARY:Taller Compostaje Doméstico / Villa de Mazo
DESCRIPTION:Lugar: Sociedad La Unión\, Villa de Mazo\nFecha: 22/10/2025\nHora: 17:00 h
URL:https://lapalmaorganica.com/evento/taller-compostaje-domestico-villa-de-mazo/
LOCATION:Sociedad La Unión\, Calle Caridad Salazar\, 5A\, Villa De Mazo\, Santa Cruz de Tenerife\, 38730\, Spain
CATEGORIES:Compostaje Doméstico
ATTACH;FMTTYPE=image/png:https://lapalmaorganica.com/wp-content/uploads/2025/10/Mazo.png
END:VEVENT
BEGIN:VEVENT
DTSTART;TZID=UTC:20251028T170000
DTEND;TZID=UTC:20251028T200000
DTSTAMP:20260422T162031
CREATED:20250926T092150Z
LAST-MODIFIED:20251024T112148Z
UID:16190-1761670800-1761681600@lapalmaorganica.com
SUMMARY:Taller Compostaje Doméstico / Puntallana
DESCRIPTION:Lugar: Casa de la Cultura\, Puntallana\nFecha: 28/10/2025\nHora: 17:00 h
URL:https://lapalmaorganica.com/evento/taller-compostaje-domestico-puntallana/
LOCATION:Casa de la Cultura de Puntallana\, Calle República de Venezuela\, S/N\, Puntallana\, Santa Cruz de Tenerife\, 38715\, Spain
CATEGORIES:Compostaje Doméstico
ATTACH;FMTTYPE=image/png:https://lapalmaorganica.com/wp-content/uploads/2025/09/Puntallana-1.png
END:VEVENT
BEGIN:VEVENT
DTSTART;TZID=UTC:20251030T170000
DTEND;TZID=UTC:20251030T200000
DTSTAMP:20260422T162031
CREATED:20250926T094419Z
LAST-MODIFIED:20250926T103416Z
UID:16198-1761843600-1761854400@lapalmaorganica.com
SUMMARY:Gran Taller de Compostaje para la Comarca Este / Breña Alta
DESCRIPTION:Lugar: Museo del Puro Palmero\, Breña Alta\nFecha: 30/10/2025\nHora: 17:00 h
URL:https://lapalmaorganica.com/evento/gran-taller-de-compostaje-para-la-comarca-este-brena-alta/
LOCATION:Museo del Puro Palmero\, Parque De los Álamos. San Pedro\, Breña Alta\, 38710\, España
CATEGORIES:Compostaje Doméstico
ATTACH;FMTTYPE=image/jpeg:https://lapalmaorganica.com/wp-content/uploads/2025/09/CARTEL-ESTE-scaled.jpg
END:VEVENT
END:VCALENDAR