BEGIN:VCALENDAR
VERSION:2.0
PRODID:-//La Palma Orgánica - ECPv6.15.20//NONSGML v1.0//EN
CALSCALE:GREGORIAN
METHOD:PUBLISH
X-ORIGINAL-URL:https://lapalmaorganica.com
X-WR-CALDESC:Eventos para La Palma Orgánica
REFRESH-INTERVAL;VALUE=DURATION:PT1H
X-Robots-Tag:noindex
X-PUBLISHED-TTL:PT1H
BEGIN:VTIMEZONE
TZID:UTC
BEGIN:STANDARD
TZOFFSETFROM:+0000
TZOFFSETTO:+0000
TZNAME:UTC
DTSTART:20250101T000000
END:STANDARD
END:VTIMEZONE
BEGIN:VEVENT
DTSTART;TZID=UTC:20260202T080000
DTEND;TZID=UTC:20260209T170000
DTSTAMP:20260424T091517
CREATED:20260129T141706Z
LAST-MODIFIED:20260129T141706Z
UID:16689-1770019200-1770656400@lapalmaorganica.com
SUMMARY:Gira del Municipio Orgánico 2026 - Breña Baja
DESCRIPTION:Continua la Gira del Municipio Orgánico 2026 en Breña Baja del 2 al 9 de febrero de 2026. \n\nLunes 2 de febrero de 2026 a las 11:00 h: Inicio de actividades.\nMiércoles 4 de febrero de 2026 a partir de las 10:00 h: asesoramiento personalizado en domicilios y visitas de seguimiento.\nJueves 5 de febrero de 2026 de 9:00 a 13:00 h: Punto recreativo e información a la ciudadanía con arte colaborativo.\nViernes 6 de febrero de 2026 a las 9:00 a 14:00 h: Taller de compostaje en el Ayuntamiento de Breña Baja.
URL:https://lapalmaorganica.com/evento/gira-del-municipio-organico-2026-brena-baja/
LOCATION:Ayuntamiento Breña Baja
ATTACH;FMTTYPE=image/jpeg:https://lapalmaorganica.com/wp-content/uploads/2026/01/brenabaja.jpg
END:VEVENT
END:VCALENDAR