BEGIN:VCALENDAR
VERSION:2.0
PRODID:-//La Palma Orgánica - ECPv6.15.20//NONSGML v1.0//EN
CALSCALE:GREGORIAN
METHOD:PUBLISH
X-ORIGINAL-URL:https://lapalmaorganica.com
X-WR-CALDESC:Eventos para La Palma Orgánica
REFRESH-INTERVAL;VALUE=DURATION:PT1H
X-Robots-Tag:noindex
X-PUBLISHED-TTL:PT1H
BEGIN:VTIMEZONE
TZID:UTC
BEGIN:STANDARD
TZOFFSETFROM:+0000
TZOFFSETTO:+0000
TZNAME:UTC
DTSTART:20240101T000000
END:STANDARD
END:VTIMEZONE
BEGIN:VEVENT
DTSTART;TZID=UTC:20251030T170000
DTEND;TZID=UTC:20251030T200000
DTSTAMP:20260424T154841
CREATED:20250926T094419Z
LAST-MODIFIED:20250926T103416Z
UID:16198-1761843600-1761854400@lapalmaorganica.com
SUMMARY:Gran Taller de Compostaje para la Comarca Este / Breña Alta
DESCRIPTION:Lugar: Museo del Puro Palmero\, Breña Alta\nFecha: 30/10/2025\nHora: 17:00 h
URL:https://lapalmaorganica.com/evento/gran-taller-de-compostaje-para-la-comarca-este-brena-alta/
LOCATION:Museo del Puro Palmero\, Parque De los Álamos. San Pedro\, Breña Alta\, 38710\, España
CATEGORIES:Compostaje Doméstico
ATTACH;FMTTYPE=image/jpeg:https://lapalmaorganica.com/wp-content/uploads/2025/09/CARTEL-ESTE-scaled.jpg
END:VEVENT
END:VCALENDAR