BEGIN:VCALENDAR
VERSION:2.0
PRODID:-//La Palma Orgánica - ECPv6.15.20//NONSGML v1.0//EN
CALSCALE:GREGORIAN
METHOD:PUBLISH
X-ORIGINAL-URL:https://lapalmaorganica.com
X-WR-CALDESC:Eventos para La Palma Orgánica
REFRESH-INTERVAL;VALUE=DURATION:PT1H
X-Robots-Tag:noindex
X-PUBLISHED-TTL:PT1H
BEGIN:VTIMEZONE
TZID:UTC
BEGIN:STANDARD
TZOFFSETFROM:+0000
TZOFFSETTO:+0000
TZNAME:UTC
DTSTART:20240101T000000
END:STANDARD
END:VTIMEZONE
BEGIN:VEVENT
DTSTART;TZID=UTC:20250919T110000
DTEND;TZID=UTC:20250919T130000
DTSTAMP:20260422T134649
CREATED:20250909T124657Z
LAST-MODIFIED:20250909T124657Z
UID:16069-1758279600-1758286800@lapalmaorganica.com
SUMMARY:Taller Compostaje Doméstico / PFAE Garafía\, Te Acompaña
DESCRIPTION:Colectivo: PFAE Garafía\, Te Acompaña\nLugar: Casa de la Cultura\, Santo Domingo de Garafía\nFecha: 19/09/2025\nHora: 11:00
URL:https://lapalmaorganica.com/evento/taller-compostaje-domestico-pfae-garafia-te-acompana/
LOCATION:Casa de La Cultura de Santo Domingo\, Villa de Garafía\, Santa Cruz de Tenerife\, 38787\, España
CATEGORIES:Compostaje Doméstico
ATTACH;FMTTYPE=application/pdf:https://lapalmaorganica.com/wp-content/uploads/2025/09/garafia.pdf
END:VEVENT
BEGIN:VEVENT
DTSTART;TZID=UTC:20250926T103000
DTEND;TZID=UTC:20250926T123000
DTSTAMP:20260422T134649
CREATED:20250926T090828Z
LAST-MODIFIED:20250926T090828Z
UID:16182-1758882600-1758889800@lapalmaorganica.com
SUMMARY:Taller Compostaje Doméstico / PFAE Puntagorda\, Sembrando Oportunidades
DESCRIPTION:Lugar: Casa de la Cultura de Puntagorda\nFecha: 26/09/2025\nHora: 10:30 h
URL:https://lapalmaorganica.com/evento/taller-compostaje-domestico-pfae-puntagorda-sembrando-oportunidades/
LOCATION:Casa de La Cultura Puntagorda\, Calle Cuatro Caminos\, 5\, Puntagorda\, Santa Cruz de Tenerife\, 38789\, España
CATEGORIES:Compostaje Doméstico
ATTACH;FMTTYPE=image/png:https://lapalmaorganica.com/wp-content/uploads/2025/09/Puntagorda.png
END:VEVENT
END:VCALENDAR