BEGIN:VCALENDAR
VERSION:2.0
PRODID:-//La Palma Orgánica - ECPv6.15.20//NONSGML v1.0//EN
CALSCALE:GREGORIAN
METHOD:PUBLISH
X-ORIGINAL-URL:https://lapalmaorganica.com
X-WR-CALDESC:Eventos para La Palma Orgánica
REFRESH-INTERVAL;VALUE=DURATION:PT1H
X-Robots-Tag:noindex
X-PUBLISHED-TTL:PT1H
BEGIN:VTIMEZONE
TZID:UTC
BEGIN:STANDARD
TZOFFSETFROM:+0000
TZOFFSETTO:+0000
TZNAME:UTC
DTSTART:20240101T000000
END:STANDARD
END:VTIMEZONE
BEGIN:VEVENT
DTSTART;TZID=UTC:20251204T170000
DTEND;TZID=UTC:20251204T190000
DTSTAMP:20260422T091403
CREATED:20251119T103049Z
LAST-MODIFIED:20251125T125334Z
UID:16420-1764867600-1764874800@lapalmaorganica.com
SUMMARY:Inauguración ZCC El Retamar / Los Llanos de Aridane
DESCRIPTION:Lugar: Zona de Compostaje Comunitario El Retamar\, Los Llanos de Aridane. \nLocalización: https://maps.app.goo.gl/zESkLT3y6jwEGSwB7 \nFecha: 04/12/2025 \nHorario: 17:00 h
URL:https://lapalmaorganica.com/evento/inauguracion-zcc-el-retamar-los-llanos-de-aridane/
CATEGORIES:Compostaje Comunitario
ATTACH;FMTTYPE=image/png:https://lapalmaorganica.com/wp-content/uploads/2025/11/Los-Llanos-1.png
END:VEVENT
BEGIN:VEVENT
DTSTART;TZID=UTC:20251215T170000
DTEND;TZID=UTC:20251215T190000
DTSTAMP:20260422T091403
CREATED:20251205T111210Z
LAST-MODIFIED:20251210T081247Z
UID:16530-1765818000-1765825200@lapalmaorganica.com
SUMMARY:Dinamización y Reparto de Compost ZCC La Laguna / Los Llanos de Aridane
DESCRIPTION:Lugar: ZCC Huertos Urbanos\, Los Llanos de Aridane\nFecha: 15/12/2025\nHora: 17:00 h
URL:https://lapalmaorganica.com/evento/dinamizacion-y-reparto-de-compost-zcc-huertos-urbanos-los-llanos-de-aridane/
CATEGORIES:Compostaje Comunitario
ATTACH;FMTTYPE=image/png:https://lapalmaorganica.com/wp-content/uploads/2025/12/la-laguna.png
END:VEVENT
BEGIN:VEVENT
DTSTART;TZID=UTC:20251218T170000
DTEND;TZID=UTC:20251218T190000
DTSTAMP:20260422T091403
CREATED:20251209T101239Z
LAST-MODIFIED:20251209T101239Z
UID:16534-1766077200-1766084400@lapalmaorganica.com
SUMMARY:Dinamización ZCC El Retamar / Los Llanos de Aridane
DESCRIPTION:Lugar: ZCC El Retamar\, Los Llanos de Aridane\nFecha: 18/12/2025\nHora: 17:00 h
URL:https://lapalmaorganica.com/evento/dinamizacion-zcc-el-retamar-los-llanos-de-aridane/
CATEGORIES:Compostaje Comunitario
ATTACH;FMTTYPE=image/png:https://lapalmaorganica.com/wp-content/uploads/2025/12/Los-Llanos.png
END:VEVENT
END:VCALENDAR