BEGIN:VCALENDAR
VERSION:2.0
PRODID:-//La Palma Orgánica - ECPv6.15.20//NONSGML v1.0//EN
CALSCALE:GREGORIAN
METHOD:PUBLISH
X-ORIGINAL-URL:https://lapalmaorganica.com
X-WR-CALDESC:Eventos para La Palma Orgánica
REFRESH-INTERVAL;VALUE=DURATION:PT1H
X-Robots-Tag:noindex
X-PUBLISHED-TTL:PT1H
BEGIN:VTIMEZONE
TZID:UTC
BEGIN:STANDARD
TZOFFSETFROM:+0000
TZOFFSETTO:+0000
TZNAME:UTC
DTSTART:20250101T000000
END:STANDARD
END:VTIMEZONE
BEGIN:VEVENT
DTSTART;TZID=UTC:20260526T170000
DTEND;TZID=UTC:20260526T190000
DTSTAMP:20260424T173515
CREATED:20260423T084741Z
LAST-MODIFIED:20260423T084741Z
UID:16994-1779814800-1779822000@lapalmaorganica.com
SUMMARY:Inauguración ZCC Destiladera / Breña Alta
DESCRIPTION:Lugar: ZCC Destiladera\, Breña Alta. Frente al Centro Ocupacional de Breña Alta.\nUbicación: Calle Tinisuaga https://maps.app.goo.gl/23ebujWstZY92a3c9\nFecha: 26/05/2026\nHora: 17:00 h
URL:https://lapalmaorganica.com/evento/inauguracion-zcc-destiladera-brena-alta/
CATEGORIES:Compostaje Comunitario
ATTACH;FMTTYPE=image/png:https://lapalmaorganica.com/wp-content/uploads/2026/04/Destiladera.png
END:VEVENT
END:VCALENDAR