BEGIN:VCALENDAR
VERSION:2.0
PRODID:-//La Palma Orgánica - ECPv6.15.20//NONSGML v1.0//EN
CALSCALE:GREGORIAN
METHOD:PUBLISH
X-WR-CALNAME:La Palma Orgánica
X-ORIGINAL-URL:https://lapalmaorganica.com
X-WR-CALDESC:Eventos para La Palma Orgánica
REFRESH-INTERVAL;VALUE=DURATION:PT1H
X-Robots-Tag:noindex
X-PUBLISHED-TTL:PT1H
BEGIN:VTIMEZONE
TZID:UTC
BEGIN:STANDARD
TZOFFSETFROM:+0000
TZOFFSETTO:+0000
TZNAME:UTC
DTSTART:20220101T000000
END:STANDARD
END:VTIMEZONE
BEGIN:VEVENT
DTSTART;TZID=UTC:20230307T170000
DTEND;TZID=UTC:20230307T190000
DTSTAMP:20260422T090009
CREATED:20230228T104719Z
LAST-MODIFIED:20230228T104803Z
UID:14129-1678208400-1678215600@lapalmaorganica.com
SUMMARY:Composta tus biorresiduos | Fuencaliente de La Palma
DESCRIPTION:INSCRIPCIÓN \n\nComposta tus biorresiduos | Centro Cultural Los Canarios\, en Fuencaliente de La Palma \nEl martes 7 de marzo de febrero de 17:00 a 19:00 horas en el Centro Cultural Los Canarios\, en Fuencaliente de La Palma\nSe dará a conocer las numerosas ventajas de una correcta gestión de los biorresiduos domésticos (restos de materia orgánica generados en el hogar). \nPrograma:\n– Cómo llevar a cabo una correcta separación de los residuos sólidos urbanos destinados al reciclaje.\n– Dinámica que muestre la importancia de la separación de la fracción orgánica del resto de fracciones.\n– Se mostrará el funcionamiento de una compostadora.
URL:https://lapalmaorganica.com/evento/composta-tus-biorresiduos-fuencaliente-de-la-palma/
LOCATION:Centro Cultural Los Canarios\, en Fuencaliente de La Palma\, C. Venezuela\, 2\,\, Fuencaliente de La Palma\, Santa Cruz de Tenerife\, 38740\, España
ATTACH;FMTTYPE=image/jpeg:https://lapalmaorganica.com/wp-content/uploads/2023/02/lpo_taller-fuencaliente.jpg
END:VEVENT
BEGIN:VEVENT
DTSTART;TZID=UTC:20230309T170000
DTEND;TZID=UTC:20230309T190000
DTSTAMP:20260422T090009
CREATED:20230223T122148Z
LAST-MODIFIED:20230223T122148Z
UID:14048-1678381200-1678388400@lapalmaorganica.com
SUMMARY:Composta tus biorresiduos | CEIP Tagoja\, Mirca
DESCRIPTION:INSCRIPCIÓN \n\nComposta tus biorresiduos | CEIP Tagoja\, Mirca\, Santa Cruz de La Palma \nEl jueves 9 de marzo de febrero de 17:00 a 19:00 horas en el CEIP Tagoja de Mirca\, Santa Cruz de La Palma\nSe dará a conocer las numerosas ventajas de una correcta gestión de los biorresiduos domésticos (restos de materia orgánica generados en el hogar). \nPrograma:\n– Cómo llevar a cabo una correcta separación de los residuos sólidos urbanos destinados al reciclaje.\n– Dinámica que muestre la importancia de la separación de la fracción orgánica del resto de fracciones.\n– Se mostrará el funcionamiento de una compostadora.
URL:https://lapalmaorganica.com/evento/composta-tus-biorresiduos-ceip-tagoja-mirca/
LOCATION:CEIP Tagoja\, Mirca\, C. del Caserío Miranda\, 57\,\, Santa Cruz de la Palma\, Santa Cruz de Tenerife\, 38700\, España
ATTACH;FMTTYPE=image/jpeg:https://lapalmaorganica.com/wp-content/uploads/2023/02/9MARZO-CEIPTAGOJA-LPO.jpg
END:VEVENT
BEGIN:VEVENT
DTSTART;TZID=UTC:20230314T170000
DTEND;TZID=UTC:20230314T190000
DTSTAMP:20260422T090009
CREATED:20230223T122555Z
LAST-MODIFIED:20230223T122555Z
UID:14053-1678813200-1678820400@lapalmaorganica.com
SUMMARY:Composta tus biorresiduos | Biblioteca Casa de la Cultura de Mirca
DESCRIPTION:INSCRIPCIÓN \n\nComposta tus biorresiduos | Biblioteca Casa de la Cultura de Mirca\, Santa Cruz de La Palma \nEl martes14 de marzo de febrero de 17:00 a 19:00 horas en la Biblioteca Casa de la Cultura de Mirca\, Santa Cruz de La Palma\nSe dará a conocer las numerosas ventajas de una correcta gestión de los biorresiduos domésticos (restos de materia orgánica generados en el hogar). \nPrograma:\n– Cómo llevar a cabo una correcta separación de los residuos sólidos urbanos destinados al reciclaje.\n– Dinámica que muestre la importancia de la separación de la fracción orgánica del resto de fracciones.\n– Se mostrará el funcionamiento de una compostadora.
URL:https://lapalmaorganica.com/evento/composta-tus-biorresiduos-biblioteca-casa-de-la-cultura-de-mirca/
LOCATION:Biblioteca Casa de la cultura de Mirca\, C. Miranda\, 51\, Santa Cruz de La Palma\, Santa Cruz de Tenerife\, 38700\, España
ATTACH;FMTTYPE=image/jpeg:https://lapalmaorganica.com/wp-content/uploads/2023/02/LPO-14MARZO-MIRCA-BIBLIOTECA.jpg
END:VEVENT
BEGIN:VEVENT
DTSTART;TZID=UTC:20230316T170000
DTEND;TZID=UTC:20230316T190000
DTSTAMP:20260422T090009
CREATED:20230308T103838Z
LAST-MODIFIED:20230308T113955Z
UID:14218-1678986000-1678993200@lapalmaorganica.com
SUMMARY:Composta tus biorresiduos | San Andrés y Sauces
DESCRIPTION:INSCRIPCIÓN \n\nComposta tus biorresiduos | Zona de Compostaje Comunitario Calle Vera\, San Andrés y Sauces \nEl jueves 16 de marzo de 17:00 a 19:00 horas en la Zona de Compostaje Comunitario Calle Vera\, San Andrés y Sauces\nSe dará a conocer las numerosas ventajas de una correcta gestión de los biorresiduos domésticos (restos de materia orgánica generados en el hogar). \nPrograma:\n– Cómo llevar a cabo una correcta separación de los residuos sólidos urbanos destinados al reciclaje.\n– Dinámica que muestre la importancia de la separación de la fracción orgánica del resto de fracciones.\n– Se mostrará el funcionamiento de una compostadora.
URL:https://lapalmaorganica.com/evento/composta-tus-biorresiduos-san-andres-y-sauces-marzo/
LOCATION:Zona de Compostaje Comunitario Calle Vera\, San Andrés y Sauces\, Calle Vera\, San Andrés y Sauces\, Santa Cruz de Tenerife\, 38720\, España
ATTACH;FMTTYPE=image/jpeg:https://lapalmaorganica.com/wp-content/uploads/2023/03/taller-lapalmaorganica-sanandresysauces-1.jpg
END:VEVENT
BEGIN:VEVENT
DTSTART;TZID=UTC:20230320T170000
DTEND;TZID=UTC:20230320T190000
DTSTAMP:20260422T090009
CREATED:20230308T114447Z
LAST-MODIFIED:20230308T114611Z
UID:14234-1679331600-1679338800@lapalmaorganica.com
SUMMARY:Composta tus biorresiduos | Fuencaliente de La Palma
DESCRIPTION:INSCRIPCIÓN \n\nComposta tus biorresiduos | Centro Cultural Los Canarios\, en Fuencaliente de La Palma \nEl lunes 20 de marzo de febrero de 17:00 a 19:00 horas en el Centro Cultural Los Canarios\, en Fuencaliente de La Palma\nSe dará a conocer las numerosas ventajas de una correcta gestión de los biorresiduos domésticos (restos de materia orgánica generados en el hogar). \nPrograma:\n– Cómo llevar a cabo una correcta separación de los residuos sólidos urbanos destinados al reciclaje.\n– Dinámica que muestre la importancia de la separación de la fracción orgánica del resto de fracciones.\n– Se mostrará el funcionamiento de una compostadora.
URL:https://lapalmaorganica.com/evento/fuencaliente/
LOCATION:Centro Cultural Los Canarios\, en Fuencaliente de La Palma\, C. Venezuela\, 2\,\, Fuencaliente de La Palma\, Santa Cruz de Tenerife\, 38740\, España
ATTACH;FMTTYPE=image/jpeg:https://lapalmaorganica.com/wp-content/uploads/2023/03/lpo-fuencaliente-20marzo.jpg
END:VEVENT
BEGIN:VEVENT
DTSTART;TZID=UTC:20230321T170000
DTEND;TZID=UTC:20230321T190000
DTSTAMP:20260422T090009
CREATED:20230313T104209Z
LAST-MODIFIED:20230830T133223Z
UID:14302-1679418000-1679425200@lapalmaorganica.com
SUMMARY:Composta tus biorresiduos | La Concepción\, Breña Alta
DESCRIPTION:INSCRIPCIÓN \n\nComposta tus biorresiduos | Zona de Compostaje Comunitario de La Concepción\, Breña Alta \nEl martes 21 de marzo de febrero de 17:00 a 19:00 horas en la Zona de Compostaje Comunitario de La Concepción\, Breña Alta\nSe dará a conocer las numerosas ventajas de una correcta gestión de los biorresiduos domésticos (restos de materia orgánica generados en el hogar). \nPrograma:\n– Cómo llevar a cabo una correcta separación de los residuos sólidos urbanos destinados al reciclaje.\n– Dinámica que muestre la importancia de la separación de la fracción orgánica del resto de fracciones.\n– Se mostrará el funcionamiento de una compostadora.
URL:https://lapalmaorganica.com/evento/composta-tus-biorresiduos-la-concepcion-brena-alta/
ATTACH;FMTTYPE=image/jpeg:https://lapalmaorganica.com/wp-content/uploads/2023/03/Taller-ZCC-La-Concepcion-LAPALMA.jpg
END:VEVENT
BEGIN:VEVENT
DTSTART;TZID=UTC:20230322T170000
DTEND;TZID=UTC:20230322T190000
DTSTAMP:20260422T090009
CREATED:20230313T104627Z
LAST-MODIFIED:20230313T104906Z
UID:14305-1679504400-1679511600@lapalmaorganica.com
SUMMARY:Composta tus biorresiduos | Puntagorda
DESCRIPTION:INSCRIPCIÓN \n\nComposta tus biorresiduos | Zona de Compostaje Comunitario de Puntagorda \nEl miércoles 22 de marzo de febrero de 17:00 a 19:00 horas en la Zona de Compostaje Comunitario de Puntagorda\nSe dará a conocer las numerosas ventajas de una correcta gestión de los biorresiduos domésticos (restos de materia orgánica generados en el hogar). \nPrograma:\n– Cómo llevar a cabo una correcta separación de los residuos sólidos urbanos destinados al reciclaje.\n– Dinámica que muestre la importancia de la separación de la fracción orgánica del resto de fracciones.\n– Se mostrará el funcionamiento de una compostadora.
URL:https://lapalmaorganica.com/evento/composta-tus-biorresiduospuntagorda/
ATTACH;FMTTYPE=image/jpeg:https://lapalmaorganica.com/wp-content/uploads/2023/03/Taller-ZCC-puntagorda.jpg
END:VEVENT
BEGIN:VEVENT
DTSTART;TZID=UTC:20230328T170000
DTEND;TZID=UTC:20230328T190000
DTSTAMP:20260422T090009
CREATED:20230313T105323Z
LAST-MODIFIED:20230313T144617Z
UID:14318-1680022800-1680030000@lapalmaorganica.com
SUMMARY:Composta tus biorresiduos | IES Eusebio Barreto\, Los Llanos de Aridane
DESCRIPTION:INSCRIPCIÓN \n\nComposta tus biorresiduos | IES Eusebio Barreto\, Los Llanos de Aridane \nEl martes 28 de marzo de febrero de 17:00 a 19:00 horas en el IES Eusebio Barreto\, Los Llanos de Aridane\nSe dará a conocer las numerosas ventajas de una correcta gestión de los biorresiduos domésticos (restos de materia orgánica generados en el hogar). \nPrograma:\n– Cómo llevar a cabo una correcta separación de los residuos sólidos urbanos destinados al reciclaje.\n– Dinámica que muestre la importancia de la separación de la fracción orgánica del resto de fracciones.\n– Se mostrará el funcionamiento de una compostadora.
URL:https://lapalmaorganica.com/evento/composta-tus-biorresiduos-ies-eusebio-barreto-los-llanos-de-aridane/
ATTACH;FMTTYPE=image/jpeg:https://lapalmaorganica.com/wp-content/uploads/2023/03/taller-ieseusebiobarreto.jpg
END:VEVENT
END:VCALENDAR