BEGIN:VCALENDAR
VERSION:2.0
PRODID:-//La Palma Orgánica - ECPv6.15.20//NONSGML v1.0//EN
CALSCALE:GREGORIAN
METHOD:PUBLISH
X-WR-CALNAME:La Palma Orgánica
X-ORIGINAL-URL:https://lapalmaorganica.com
X-WR-CALDESC:Eventos para La Palma Orgánica
REFRESH-INTERVAL;VALUE=DURATION:PT1H
X-Robots-Tag:noindex
X-PUBLISHED-TTL:PT1H
BEGIN:VTIMEZONE
TZID:UTC
BEGIN:STANDARD
TZOFFSETFROM:+0000
TZOFFSETTO:+0000
TZNAME:UTC
DTSTART:20220101T000000
END:STANDARD
END:VTIMEZONE
BEGIN:VEVENT
DTSTART;TZID=UTC:20230724T170000
DTEND;TZID=UTC:20230724T190000
DTSTAMP:20260422T134308
CREATED:20230724T125247Z
LAST-MODIFIED:20230724T125247Z
UID:14721-1690218000-1690225200@lapalmaorganica.com
SUMMARY:Composta tus biorresiduos | Mirca
DESCRIPTION:Composta tus biorresiduos | Casa de La Cultura de Mirca\, Santa Cruz de La Palma \nEl jueves 27 de julio de 17:00 a 19:00 horas en la Casa de La Cultura de Mirca\, Santa Cruz de La Palma.\nSe dará a conocer las numerosas ventajas de una correcta gestión de los biorresiduos domésticos (restos de materia orgánica generados en el hogar). \nPrograma:\n– Cómo llevar a cabo una correcta separación de los residuos sólidos urbanos destinados al reciclaje.\n– Dinámica que muestre la importancia de la separación de la fracción orgánica del resto de fracciones.\n– Se mostrará el funcionamiento de una compostadora.
URL:https://lapalmaorganica.com/evento/composta-tus-biorresiduos-mirca-2/
LOCATION:Casa de la cultura de Mirca\, C. Miranda\, 51\, Santa Cruz de La Palma\, Santa Cruz de Tenerife\, 38700\, España
ATTACH;FMTTYPE=image/png:https://lapalmaorganica.com/wp-content/uploads/2023/07/LPO-14MARZO-MIRCA-27JULIO.png
END:VEVENT
END:VCALENDAR