BEGIN:VCALENDAR
VERSION:2.0
PRODID:-//La Palma Orgánica - ECPv6.15.20//NONSGML v1.0//EN
CALSCALE:GREGORIAN
METHOD:PUBLISH
X-WR-CALNAME:La Palma Orgánica
X-ORIGINAL-URL:https://lapalmaorganica.com
X-WR-CALDESC:Eventos para La Palma Orgánica
REFRESH-INTERVAL;VALUE=DURATION:PT1H
X-Robots-Tag:noindex
X-PUBLISHED-TTL:PT1H
BEGIN:VTIMEZONE
TZID:UTC
BEGIN:STANDARD
TZOFFSETFROM:+0000
TZOFFSETTO:+0000
TZNAME:UTC
DTSTART:20220101T000000
END:STANDARD
END:VTIMEZONE
BEGIN:VEVENT
DTSTART;TZID=UTC:20230906T170000
DTEND;TZID=UTC:20230906T190000
DTSTAMP:20260422T163528
CREATED:20230830T130401Z
LAST-MODIFIED:20230830T130401Z
UID:14832-1694019600-1694026800@lapalmaorganica.com
SUMMARY:Composta tus biorresiduos | San Andrés y Sauces
DESCRIPTION:Composta tus biorresiduos | Zona de Compostaje Comunitario Calle Vera\, en San Andrés y Sauces. \nEl miércoles 6 de septiembre de 17:00 a 19:00 horas en la Zona de Compostaje Comunitario Calle Vera\, en San Andrés y Sauces.  No requiere inscripción previa.\nSe dará a conocer las numerosas ventajas de una correcta gestión de los biorresiduos domésticos (restos de materia orgánica generados en el hogar). \nPrograma:\n– Cómo llevar a cabo una correcta separación de los residuos sólidos urbanos destinados al reciclaje.\n– Dinámica que muestre la importancia de la separación de la fracción orgánica del resto de fracciones.\n– Se mostrará el funcionamiento de una compostadora.
URL:https://lapalmaorganica.com/evento/composta-tus-biorresiduos-san-andres-y-sauces-2/
LOCATION:Zona de Compostaje Comunitario Calle Vera\, San Andrés y Sauces\, Calle Vera\, San Andrés y Sauces\, Santa Cruz de Tenerife\, 38720\, España
CATEGORIES:Compostaje Comunitario
ATTACH;FMTTYPE=image/jpeg:https://lapalmaorganica.com/wp-content/uploads/2023/08/taller-sanandres-6sept.jpg
END:VEVENT
BEGIN:VEVENT
DTSTART;TZID=UTC:20230919T170000
DTEND;TZID=UTC:20230919T190000
DTSTAMP:20260422T163528
CREATED:20230905T125723Z
LAST-MODIFIED:20230905T131136Z
UID:14837-1695142800-1695150000@lapalmaorganica.com
SUMMARY:Composta tus biorresiduos | Casa de la Cultura\, Villa de Garafía
DESCRIPTION:No requiere inscripción previa \n\nComposta tus biorresiduos | Casa de la Cultura de Villa de Garafía \nEl martes 19 de septiembre de 17:00 a 19:00 horas en la Casa de la Cultura de Villa de Garafía.\nSe dará a conocer las numerosas ventajas de una correcta gestión de los biorresiduos domésticos (restos de materia orgánica generados en el hogar). \nPrograma:\n– Cómo llevar a cabo una correcta separación de los residuos sólidos urbanos destinados al reciclaje.\n– Dinámica que muestre la importancia de la separación de la fracción orgánica del resto de fracciones.\n– Se mostrará el funcionamiento de una compostadora.
URL:https://lapalmaorganica.com/evento/composta-tus-biorresiduos-casa-de-la-cultura-villa-de-garafia/
LOCATION:Casa de La Cultura de Santo Domingo\, Villa de Garafía\, Santa Cruz de Tenerife\, 38787\, España
CATEGORIES:Compostaje Comunitario
ATTACH;FMTTYPE=image/jpeg:https://lapalmaorganica.com/wp-content/uploads/2023/09/villadegaradia-19sept2023-1.jpg
END:VEVENT
END:VCALENDAR