BEGIN:VCALENDAR
VERSION:2.0
PRODID:-//La Palma Orgánica - ECPv6.15.20//NONSGML v1.0//EN
CALSCALE:GREGORIAN
METHOD:PUBLISH
X-ORIGINAL-URL:https://lapalmaorganica.com
X-WR-CALDESC:Eventos para La Palma Orgánica
REFRESH-INTERVAL;VALUE=DURATION:PT1H
X-Robots-Tag:noindex
X-PUBLISHED-TTL:PT1H
BEGIN:VTIMEZONE
TZID:UTC
BEGIN:STANDARD
TZOFFSETFROM:+0000
TZOFFSETTO:+0000
TZNAME:UTC
DTSTART:20240101T000000
END:STANDARD
END:VTIMEZONE
BEGIN:VEVENT
DTSTART;TZID=UTC:20251104T170000
DTEND;TZID=UTC:20251104T190000
DTSTAMP:20260426T023041
CREATED:20251006T085331Z
LAST-MODIFIED:20251006T085331Z
UID:16266-1762275600-1762282800@lapalmaorganica.com
SUMMARY:Taller de Compostaje Doméstico / Breña Alta
DESCRIPTION:Lugar: Casa Panchito – Proyecto Embárriate de Mojo de Caña\, Breña Alta\nFecha: 04/11/2025\nHora: 17:00 h
URL:https://lapalmaorganica.com/evento/taller-de-compostaje-domestico-brena-alta/
LOCATION:Casa Panchito. Centro Cultural\, Calle Atlántida\, 1\, San Pedro\, Breña Alta\, Santa Cruz de Tenerife\, 38710\, Spain
CATEGORIES:Compostaje Doméstico
ATTACH;FMTTYPE=image/png:https://lapalmaorganica.com/wp-content/uploads/2025/10/Mojo-de-cana-balta.png
END:VEVENT
BEGIN:VEVENT
DTSTART;TZID=UTC:20251105T120000
DTEND;TZID=UTC:20251105T140000
DTSTAMP:20260426T023041
CREATED:20251030T124915Z
LAST-MODIFIED:20251030T124915Z
UID:16389-1762344000-1762351200@lapalmaorganica.com
SUMMARY:Taller Compostaje Doméstico / EIRIF
DESCRIPTION:Lugar: Base EIRIF de La Palma\, Breña Alta \nFecha: 05/11/2025 \nHora: 12:00
URL:https://lapalmaorganica.com/evento/taller-compostaje-domestico-eirif/
CATEGORIES:Compostaje Doméstico
ATTACH;FMTTYPE=image/png:https://lapalmaorganica.com/wp-content/uploads/2025/10/EIRIF.png
END:VEVENT
BEGIN:VEVENT
DTSTART;TZID=UTC:20251106T093000
DTEND;TZID=UTC:20251106T170000
DTSTAMP:20260426T023041
CREATED:20251031T124810Z
LAST-MODIFIED:20251031T124810Z
UID:16402-1762421400-1762448400@lapalmaorganica.com
SUMMARY:Intercambio de experiencias de buenas prácticas ambientales en el medio rural
DESCRIPTION:Desde la Red PAC\, perteneciente al Ministerio de Agricultura\, Pesca y Alimentación\, te invitamos a la jornada de “Intercambio de experiencias de buenas prácticas ambientales en el medio rural“ que se realizará en formato presencial en la finca La Junquera (Caravaca de la Cruz\, Murcia) el próximo 6 de noviembre de 2025.  \nEl Proyecto La Palma Orgánica asistirá a este encuentro para compartir sus experiencias y conocimientos en prácticas ambientales. \nEste encuentro nace del impulso colaborativo de los protagonistas de la “Memoria de buenas prácticas medio ambientales”\, en especial de la finca La Junquera a través de la Antena Territorial de la Región de Murcia. \nObjetivos: \n\n\nDar a conocer de primera mano experiencias inspiradoras agroambientales destacadas en el medio rural y favorecer su replicación en otros territorios. \n\n\nFacilitar el intercambio de aprendizajes y enfoques innovadores entre proyectos referentes y crear sinergias para futuras colaboraciones o proyectos conjuntos. \n\n\nReforzar el papel de la Red PAC como espacio de conexión\, difusión y aprendizaje compartido y recopilar propuestas de acción de la Red PAC para 2026. \n\n\nPúblico destinatario: \nParticipantes en la “Memoria de buenas prácticas medioambientales en el medio rural”\, así como cualquier organización o persona a título individual interesada en esta temática. \n¡Te animamos a inscribirte a través del siguiente ENLACE!\nLa inscripción es gratuita y necesaria para asistir a la jornada y puedes realizarla hasta el día 30 de octubre a las 12:00 a.m.  Tras el cierre de las inscripciones se notificará\, vía email\, el resultado de la selección a todas las personas inscritas. \nPara cualquier duda sobre la jornada puedes contactarnos a través de la dirección de correo: antenaRedPAC.Murcia@tragsa.es \n\n\n\nDocumentos\n\n\n\n\nDocumento\n Información_Visita La Junquera.pdf\n\n\n\n\n\n\nDocumento\n Programa_Memoria BBPP Medio Ambiente.pdf
URL:https://lapalmaorganica.com/evento/intercambio-de-experiencias-de-buenas-practicas-ambientales-en-el-medio-rural/
ATTACH;FMTTYPE=image/jpeg:https://lapalmaorganica.com/wp-content/uploads/2025/10/redpac.jpg
END:VEVENT
BEGIN:VEVENT
DTSTART;TZID=UTC:20251110T170000
DTEND;TZID=UTC:20251110T190000
DTSTAMP:20260426T023041
CREATED:20251015T071451Z
LAST-MODIFIED:20251103T094936Z
UID:16312-1762794000-1762801200@lapalmaorganica.com
SUMMARY:Taller Compostaje Doméstico / Los Llanos de Aridane
DESCRIPTION:Lugar: Salón de Plenos del Ayuntamiento\, Los Llanos de Aridane\nFecha: 10/11/2025\nHora: 17:00 h
URL:https://lapalmaorganica.com/evento/gran-taller-de-compostaje-para-la-comarca-oeste-los-llanos-de-aridane/
CATEGORIES:Compostaje Doméstico
ATTACH;FMTTYPE=image/png:https://lapalmaorganica.com/wp-content/uploads/2025/10/LPO_Los-Llanos-de-Aridane_2-1.png
END:VEVENT
BEGIN:VEVENT
DTSTART;TZID=UTC:20251114T093000
DTEND;TZID=UTC:20251114T113000
DTSTAMP:20260426T023041
CREATED:20250926T100736Z
LAST-MODIFIED:20251114T090654Z
UID:16207-1763112600-1763119800@lapalmaorganica.com
SUMMARY:Taller de Compostaje Doméstico / PFE Salinas II Breña Baja
DESCRIPTION:Lugar: Antiguas Salinas de Los Cancajos\, Breña Baja\nFecha: 14/11/2025\nHora: 9:30 h
URL:https://lapalmaorganica.com/evento/taller-de-compostaje-domestico-pfe-salinas-ii-brena-baja/
LOCATION:Antiguas Salinas de Los Cancajos\, Paseo del litoral\, S/N\, Breña Baja\, Santa Cruz de Tenerife\, 38712\, Spain
CATEGORIES:Compostaje Doméstico
ATTACH;FMTTYPE=image/png:https://lapalmaorganica.com/wp-content/uploads/2025/09/salinas-II-2.png
END:VEVENT
BEGIN:VEVENT
DTSTART;TZID=UTC:20251114T170000
DTEND;TZID=UTC:20251114T200000
DTSTAMP:20260426T023041
CREATED:20251103T145613Z
LAST-MODIFIED:20251114T094547Z
UID:16408-1763139600-1763150400@lapalmaorganica.com
SUMMARY:Taller Compostaje Doméstico / IES Cándido Marante
DESCRIPTION:Lugar: IES Cándido Marante\, San Andrés y Sauces\nFecha: 14/11/2025\nHora: 17:00 h
URL:https://lapalmaorganica.com/evento/taller-compostaje-domestico-ies-candido-marante/
ATTACH;FMTTYPE=image/png:https://lapalmaorganica.com/wp-content/uploads/2025/11/candido-marante-1.png
END:VEVENT
BEGIN:VEVENT
DTSTART;TZID=UTC:20251118T103000
DTEND;TZID=UTC:20251118T130000
DTSTAMP:20260426T023041
CREATED:20250926T100117Z
LAST-MODIFIED:20251114T090215Z
UID:16202-1763461800-1763470800@lapalmaorganica.com
SUMMARY:Taller de Compostaje Doméstico / Fuencaliente de La Palma
DESCRIPTION:Lugar: Antiguo Ayuntamiento\, Fuencaliente de La Palma\nFecha: 18/11/2025\nHora: 17:00 h
URL:https://lapalmaorganica.com/evento/taller-de-compostaje-domestico-fuencaliente-de-la-palma/
LOCATION:Antiguo Ayuntamiento de Fuencaliente\, Plaza San Antonio\, Los Canarios\, Fuencaliente de La Palma\, Santa Cruz de Tenerife\, 38740\, Spain
CATEGORIES:Compostaje Doméstico
ATTACH;FMTTYPE=image/png:https://lapalmaorganica.com/wp-content/uploads/2025/09/Fuencaliente-1.png
END:VEVENT
BEGIN:VEVENT
DTSTART;TZID=UTC:20251120T090000
DTEND;TZID=UTC:20251120T140000
DTSTAMP:20260426T023041
CREATED:20251031T124239Z
LAST-MODIFIED:20251031T124239Z
UID:16399-1763629200-1763647200@lapalmaorganica.com
SUMMARY:Jornadas del Plan a la Acción: innovación empresarial para una Economía Circular en Canarias
DESCRIPTION: Jornadas “Del Plan a la Acción: Innovación empresarial para una Economía Circular en Canarias” Estas jornadas\, organizadas por el Ayuntamiento de Santa Cruz de Tenerife \, la Fundación Santa Cruz Sostenible y Cabildo de Tenerife \, en colaboración con Presidencia del Gobierno de Canarias \, Federación Canaria de Municipios y Tribuna de Canarias \, te invitan a descubrir casos de éxito\, proyectos emprendedores y nuevas oportunidades que ya están impulsando este cambio en Canarias.Un espacio abierto al debate\, el aprendizaje y la colaboración entre ciudadanía\, empresas y administraciones públicas para repensar la forma en que producimos\, consumimos y gestionamos los residuos. Jueves 20 de noviembre De 9:00 a 14:00h. TEA – Tenerife Espacio de las Artes\, Santa Cruz de TenerifeInscríbete: https://forms.gle/q2cNjfEUQTeV9Cp19 Si crees en una Canarias más sostenible y circular\, este encuentro es para ti. Más información y programa al completo: economiacircular.santacruzsostenible.es
URL:https://lapalmaorganica.com/evento/jornadas-del-plan-a-la-accion-innovacion-empresarial-para-una-economia-circular-en-canarias/
ATTACH;FMTTYPE=image/jpeg:https://lapalmaorganica.com/wp-content/uploads/2025/10/jornadas-tfe.jpg
END:VEVENT
BEGIN:VEVENT
DTSTART;TZID=UTC:20251126T170000
DTEND;TZID=UTC:20251126T200000
DTSTAMP:20260426T023041
CREATED:20250926T101222Z
LAST-MODIFIED:20251114T090159Z
UID:16211-1764176400-1764187200@lapalmaorganica.com
SUMMARY:Taller Compostaje Doméstico / Cooperativa La Prosperidad
DESCRIPTION:Lugar: Cooperativa La Prosperidad\, Tijarafe\nFecha: 26/11/2025\nHora: 17:00 h
URL:https://lapalmaorganica.com/evento/taller-compostaje-domestico-cooperativa-la-prosperidad/
CATEGORIES:Compostaje Doméstico
ATTACH;FMTTYPE=image/png:https://lapalmaorganica.com/wp-content/uploads/2025/09/Prosperidad-3.png
END:VEVENT
BEGIN:VEVENT
DTSTART;TZID=UTC:20251127T170000
DTEND;TZID=UTC:20251127T190000
DTSTAMP:20260426T023041
CREATED:20251006T090112Z
LAST-MODIFIED:20251114T090104Z
UID:16270-1764262800-1764270000@lapalmaorganica.com
SUMMARY:Taller de Compostaje Doméstico / Breña Baja
DESCRIPTION:Lugar: Local de formación – Asociación Juvenil La Colmena (Mojo de Caña)\, Breña Baja\nFecha: 27/11/2025\nHora: 17:00 h
URL:https://lapalmaorganica.com/evento/taller-de-compostaje-domestico-brena-baja/
LOCATION:Local juvenil La Colmena\, Calle Félix Duarte Pérez\, portal 14 B\, San José\, Breña Baja\, Santa Cruz de Tenerife\, 38712\, Spain
CATEGORIES:Compostaje Doméstico
ATTACH;FMTTYPE=image/png:https://lapalmaorganica.com/wp-content/uploads/2025/10/Mojo-de-cana-bbaja-1.png
END:VEVENT
END:VCALENDAR